BEGIN:VCALENDAR
VERSION:2.0
PRODID:-//Prime Time Montessori School - ECPv6.15.18//NONSGML v1.0//EN
CALSCALE:GREGORIAN
METHOD:PUBLISH
X-WR-CALNAME:Prime Time Montessori School
X-ORIGINAL-URL:https://primetimemontessori.com
X-WR-CALDESC:Events for Prime Time Montessori School
REFRESH-INTERVAL;VALUE=DURATION:PT1H
X-Robots-Tag:noindex
X-PUBLISHED-TTL:PT1H
BEGIN:VTIMEZONE
TZID:America/New_York
BEGIN:DAYLIGHT
TZOFFSETFROM:-0500
TZOFFSETTO:-0400
TZNAME:EDT
DTSTART:20240310T070000
END:DAYLIGHT
BEGIN:STANDARD
TZOFFSETFROM:-0400
TZOFFSETTO:-0500
TZNAME:EST
DTSTART:20241103T060000
END:STANDARD
BEGIN:DAYLIGHT
TZOFFSETFROM:-0500
TZOFFSETTO:-0400
TZNAME:EDT
DTSTART:20250309T070000
END:DAYLIGHT
BEGIN:STANDARD
TZOFFSETFROM:-0400
TZOFFSETTO:-0500
TZNAME:EST
DTSTART:20251102T060000
END:STANDARD
BEGIN:DAYLIGHT
TZOFFSETFROM:-0500
TZOFFSETTO:-0400
TZNAME:EDT
DTSTART:20260308T070000
END:DAYLIGHT
BEGIN:STANDARD
TZOFFSETFROM:-0400
TZOFFSETTO:-0500
TZNAME:EST
DTSTART:20261101T060000
END:STANDARD
BEGIN:DAYLIGHT
TZOFFSETFROM:-0500
TZOFFSETTO:-0400
TZNAME:EDT
DTSTART:20270314T070000
END:DAYLIGHT
BEGIN:STANDARD
TZOFFSETFROM:-0400
TZOFFSETTO:-0500
TZNAME:EST
DTSTART:20271107T060000
END:STANDARD
END:VTIMEZONE
BEGIN:VTIMEZONE
TZID:America/Los_Angeles
BEGIN:DAYLIGHT
TZOFFSETFROM:-0800
TZOFFSETTO:-0700
TZNAME:PDT
DTSTART:20240310T100000
END:DAYLIGHT
BEGIN:STANDARD
TZOFFSETFROM:-0700
TZOFFSETTO:-0800
TZNAME:PST
DTSTART:20241103T090000
END:STANDARD
BEGIN:DAYLIGHT
TZOFFSETFROM:-0800
TZOFFSETTO:-0700
TZNAME:PDT
DTSTART:20250309T100000
END:DAYLIGHT
BEGIN:STANDARD
TZOFFSETFROM:-0700
TZOFFSETTO:-0800
TZNAME:PST
DTSTART:20251102T090000
END:STANDARD
BEGIN:DAYLIGHT
TZOFFSETFROM:-0800
TZOFFSETTO:-0700
TZNAME:PDT
DTSTART:20260308T100000
END:DAYLIGHT
BEGIN:STANDARD
TZOFFSETFROM:-0700
TZOFFSETTO:-0800
TZNAME:PST
DTSTART:20261101T090000
END:STANDARD
BEGIN:DAYLIGHT
TZOFFSETFROM:-0800
TZOFFSETTO:-0700
TZNAME:PDT
DTSTART:20270314T100000
END:DAYLIGHT
BEGIN:STANDARD
TZOFFSETFROM:-0700
TZOFFSETTO:-0800
TZNAME:PST
DTSTART:20271107T090000
END:STANDARD
END:VTIMEZONE
BEGIN:VEVENT
DTSTART;VALUE=DATE:20260216
DTEND;VALUE=DATE:20260217
DTSTAMP:20260424T150854
CREATED:20230908T170746Z
LAST-MODIFIED:20250723T231401Z
UID:10000018-1771200000-1771286399@primetimemontessori.com
SUMMARY:No School - President's Day
DESCRIPTION:School will be closed in observance of President’s Day. No before and after school program activities.
URL:https://primetimemontessori.com/event/no-school-presidents-day/
END:VEVENT
BEGIN:VEVENT
DTSTART;VALUE=DATE:20260212
DTEND;VALUE=DATE:20260214
DTSTAMP:20260424T150854
CREATED:20240903T175101Z
LAST-MODIFIED:20250723T231447Z
UID:10000029-1770854400-1771027199@primetimemontessori.com
SUMMARY:No School - Mid-Winter Break
DESCRIPTION:Toddler and Preschool programs will be closed for Mid-Winter Break. No before and after school program activities.
URL:https://primetimemontessori.com/event/no-school-mid-winter-break/
END:VEVENT
BEGIN:VEVENT
DTSTART;VALUE=DATE:20260119
DTEND;VALUE=DATE:20260120
DTSTAMP:20260424T150854
CREATED:20230908T170603Z
LAST-MODIFIED:20250723T231526Z
UID:10000017-1768780800-1768867199@primetimemontessori.com
SUMMARY:No School - Martin Luther King Jr. Day
DESCRIPTION:School will be closed in observance of Martin Luther King Jr Day. No before and after school program activities.
URL:https://primetimemontessori.com/event/no-school-martin-luther-king-jr-day-2/
END:VEVENT
BEGIN:VEVENT
DTSTART;VALUE=DATE:20251222
DTEND;VALUE=DATE:20260103
DTSTAMP:20260424T150854
CREATED:20230120T201135Z
LAST-MODIFIED:20250723T231642Z
UID:10000003-1766361600-1767398399@primetimemontessori.com
SUMMARY:No School - Winter Break
DESCRIPTION:Toddler and Preschool programs will be closed for Winter Break. No before and after school program activities.
URL:https://primetimemontessori.com/event/winter-break/
END:VEVENT
BEGIN:VEVENT
DTSTART;VALUE=DATE:20251127
DTEND;VALUE=DATE:20251129
DTSTAMP:20260424T150854
CREATED:20230120T213941Z
LAST-MODIFIED:20250723T231726Z
UID:10000015-1764201600-1764374399@primetimemontessori.com
SUMMARY:No School - Thanksgiving's Holiday
DESCRIPTION:School will be closed for the Thanksgiving’s holiday. No before and after school program activities.
URL:https://primetimemontessori.com/event/no-school-thanksgivings-holiday/
END:VEVENT
BEGIN:VEVENT
DTSTART;VALUE=DATE:20251111
DTEND;VALUE=DATE:20251112
DTSTAMP:20260424T150854
CREATED:20230120T211432Z
LAST-MODIFIED:20250723T231810Z
UID:10000014-1762819200-1762905599@primetimemontessori.com
SUMMARY:No School - Veteran's Day
DESCRIPTION:School will be closed in observance of Veteran’s Day. No before and after school program activities.
URL:https://primetimemontessori.com/event/no-school-veterans-day/
END:VEVENT
BEGIN:VEVENT
DTSTART;VALUE=DATE:20250902
DTEND;VALUE=DATE:20250903
DTSTAMP:20260424T150854
CREATED:20230120T205131Z
LAST-MODIFIED:20250723T231846Z
UID:10000009-1756771200-1756857599@primetimemontessori.com
SUMMARY:First Day of School Year
DESCRIPTION:Toddler and Preschool programs start the new year. Before and after school programs will be available.
URL:https://primetimemontessori.com/event/first-day-of-school/
END:VEVENT
BEGIN:VEVENT
DTSTART;VALUE=DATE:20250901
DTEND;VALUE=DATE:20250902
DTSTAMP:20260424T150854
CREATED:20230120T205402Z
LAST-MODIFIED:20250723T230444Z
UID:10000010-1756684800-1756771199@primetimemontessori.com
SUMMARY:No School - Labor Day
DESCRIPTION:School will be closed in observance of the Labor Day. No before and after school program activities.
URL:https://primetimemontessori.com/event/no-school-labor-day/
END:VEVENT
BEGIN:VEVENT
DTSTART;VALUE=DATE:20250828
DTEND;VALUE=DATE:20250830
DTSTAMP:20260424T150854
CREATED:20230908T172105Z
LAST-MODIFIED:20240903T175940Z
UID:10000025-1756339200-1756511999@primetimemontessori.com
SUMMARY:No School - Teacher's Training Days
DESCRIPTION:School will be closed for Teacher’s Training Days. No before and after school program activities.
URL:https://primetimemontessori.com/event/no-school-teachers-training-days/
END:VEVENT
BEGIN:VEVENT
DTSTART;VALUE=DATE:20250630
DTEND;VALUE=DATE:20250828
DTSTAMP:20260424T150854
CREATED:20230908T171744Z
LAST-MODIFIED:20240903T175709Z
UID:10000023-1751241600-1756339199@primetimemontessori.com
SUMMARY:Summer Camp Programs
DESCRIPTION:Our Summer Camp programs bring enriched learning experiences with engaging materials and activities for toddlers and preschoolers during summer time.
URL:https://primetimemontessori.com/event/summer-camp-programs-2/
END:VEVENT
END:VCALENDAR